BEGIN:VCALENDAR
VERSION:2.0
PRODID:-//Jousiammuntaseura Robin Hood - ECPv5.14.1//NONSGML v1.0//EN
CALSCALE:GREGORIAN
METHOD:PUBLISH
X-WR-CALNAME:Jousiammuntaseura Robin Hood
X-ORIGINAL-URL:https://hood-espoo.fi
X-WR-CALDESC:Tapahtumat Jousiammuntaseura Robin Hood
BEGIN:VTIMEZONE
TZID:Europe/Helsinki
BEGIN:DAYLIGHT
TZOFFSETFROM:+0200
TZOFFSETTO:+0300
TZNAME:EEST
DTSTART:20220327T010000
END:DAYLIGHT
BEGIN:STANDARD
TZOFFSETFROM:+0300
TZOFFSETTO:+0200
TZNAME:EET
DTSTART:20221030T010000
END:STANDARD
END:VTIMEZONE
BEGIN:VEVENT
DTSTART;TZID=Europe/Helsinki:20220330T180000
DTEND;TZID=Europe/Helsinki:20220330T200000
DTSTAMP:20260423T004742
CREATED:20220330T091554Z
LAST-MODIFIED:20220330T091611Z
UID:7624-1648663200-1648670400@hood-espoo.fi
SUMMARY:Kokeilu- ja alkeisvuoro peruttu
DESCRIPTION:
URL:https://hood-espoo.fi/event/kokeilu-ja-alkeisvuoro-peruttu/
CATEGORIES:Etusivu,Vuoropoikkeus
END:VEVENT
END:VCALENDAR