BEGIN:VCALENDAR
VERSION:2.0
PRODID:-//Jousiammuntaseura Robin Hood - ECPv5.14.1//NONSGML v1.0//EN
CALSCALE:GREGORIAN
METHOD:PUBLISH
X-WR-CALNAME:Jousiammuntaseura Robin Hood
X-ORIGINAL-URL:https://hood-espoo.fi
X-WR-CALDESC:Tapahtumat Jousiammuntaseura Robin Hood
BEGIN:VTIMEZONE
TZID:Europe/Helsinki
BEGIN:DAYLIGHT
TZOFFSETFROM:+0200
TZOFFSETTO:+0300
TZNAME:EEST
DTSTART:20160327T010000
END:DAYLIGHT
BEGIN:STANDARD
TZOFFSETFROM:+0300
TZOFFSETTO:+0200
TZNAME:EET
DTSTART:20161030T010000
END:STANDARD
END:VTIMEZONE
BEGIN:VEVENT
DTSTART;TZID=Europe/Helsinki:20161231T100000
DTEND;TZID=Europe/Helsinki:20161231T150000
DTSTAMP:20260423T205817
CREATED:20161219T164941Z
LAST-MODIFIED:20161219T164941Z
UID:4858-1483178400-1483196400@hood-espoo.fi
SUMMARY:Lyhyt hallivuoro
DESCRIPTION:Uudenvuodenaattona hallivuoro on auki kello 15 asti.
URL:https://hood-espoo.fi/event/lyhyt-hallivuoro-2/
LOCATION:Tuulimäki\, Tapiola\, Itätuulenkuja 9\, Espoo\, 02100\, Suomi
CATEGORIES:Vuoropoikkeus
END:VEVENT
END:VCALENDAR