BEGIN:VCALENDAR
VERSION:2.0
PRODID:-//Jousiammuntaseura Robin Hood - ECPv5.14.1//NONSGML v1.0//EN
CALSCALE:GREGORIAN
METHOD:PUBLISH
X-WR-CALNAME:Jousiammuntaseura Robin Hood
X-ORIGINAL-URL:https://hood-espoo.fi
X-WR-CALDESC:Tapahtumat Jousiammuntaseura Robin Hood
BEGIN:VTIMEZONE
TZID:Europe/Helsinki
BEGIN:DAYLIGHT
TZOFFSETFROM:+0200
TZOFFSETTO:+0300
TZNAME:EEST
DTSTART:20150329T010000
END:DAYLIGHT
BEGIN:STANDARD
TZOFFSETFROM:+0300
TZOFFSETTO:+0200
TZNAME:EET
DTSTART:20151025T010000
END:STANDARD
END:VTIMEZONE
BEGIN:VEVENT
DTSTART;TZID=Europe/Helsinki:20151030T150000
DTEND;TZID=Europe/Helsinki:20151030T200000
DTSTAMP:20260420T150228
CREATED:20151022T124705Z
LAST-MODIFIED:20151029T183618Z
UID:3488-1446217200-1446235200@hood-espoo.fi
SUMMARY:Normaali hallivuoro 30.10.
DESCRIPTION:Perjantaina 30.10. on normaali vuoro. EsTT:n kisavaraus peruuntui viime hetkellä.
URL:https://hood-espoo.fi/event/lyhyt-hallivuoro/
CATEGORIES:Vuoropoikkeus
END:VEVENT
END:VCALENDAR