BEGIN:VCALENDAR
VERSION:2.0
PRODID:-//Jousiammuntaseura Robin Hood - ECPv5.14.1//NONSGML v1.0//EN
CALSCALE:GREGORIAN
METHOD:PUBLISH
X-WR-CALNAME:Jousiammuntaseura Robin Hood
X-ORIGINAL-URL:https://hood-espoo.fi
X-WR-CALDESC:Tapahtumat Jousiammuntaseura Robin Hood
BEGIN:VTIMEZONE
TZID:Europe/Helsinki
BEGIN:DAYLIGHT
TZOFFSETFROM:+0200
TZOFFSETTO:+0300
TZNAME:EEST
DTSTART:20130331T010000
END:DAYLIGHT
BEGIN:STANDARD
TZOFFSETFROM:+0300
TZOFFSETTO:+0200
TZNAME:EET
DTSTART:20131027T010000
END:STANDARD
END:VTIMEZONE
BEGIN:VEVENT
DTSTART;TZID=Europe/Helsinki:20130526T120000
DTEND;TZID=Europe/Helsinki:20130526T150000
DTSTAMP:20260422T094645
CREATED:20130428T064458Z
LAST-MODIFIED:20130428T070147Z
UID:2171-1369569600-1369580400@hood-espoo.fi
SUMMARY:Maastoammunnan peruskurssi - käytännön harjoitukset
DESCRIPTION:Maastoammunnan peruskurssin käytännön harjoitukset Oittaan maastoradalla sunnuntaina 26.5. klo 12-17 \nhttps://hood-espoo.fi/2013/04/maastoammunnan-peruskurssi-2013/
URL:https://hood-espoo.fi/event/maastoammunnan-peruskurssi-kaytannon-harjoitukset/
CATEGORIES:Kurssi
END:VEVENT
END:VCALENDAR