BEGIN:VCALENDAR
VERSION:2.0
PRODID:-//Jousiammuntaseura Robin Hood - ECPv5.14.1//NONSGML v1.0//EN
CALSCALE:GREGORIAN
METHOD:PUBLISH
X-WR-CALNAME:Jousiammuntaseura Robin Hood
X-ORIGINAL-URL:https://hood-espoo.fi
X-WR-CALDESC:Tapahtumat Jousiammuntaseura Robin Hood
BEGIN:VTIMEZONE
TZID:Europe/Helsinki
BEGIN:DAYLIGHT
TZOFFSETFROM:+0200
TZOFFSETTO:+0300
TZNAME:EEST
DTSTART:20130331T010000
END:DAYLIGHT
BEGIN:STANDARD
TZOFFSETFROM:+0300
TZOFFSETTO:+0200
TZNAME:EET
DTSTART:20131027T010000
END:STANDARD
END:VTIMEZONE
BEGIN:VEVENT
DTSTART;TZID=Europe/Helsinki:20130521T180000
DTEND;TZID=Europe/Helsinki:20130521T200000
DTSTAMP:20260422T081219
CREATED:20130428T064344Z
LAST-MODIFIED:20130428T070131Z
UID:2169-1369159200-1369166400@hood-espoo.fi
SUMMARY:Maastoammunnan peruskurssi - teoriaosa
DESCRIPTION:Maastoammunnan peruskurssin teoriaosa Tuulimäessä tiistaina 21.5. klo 18-20. \nhttps://hood-espoo.fi/2013/04/maastoammunnan-peruskurssi-2013/
URL:https://hood-espoo.fi/event/maastoammunnan-peruskurssi-teoriaosa/
CATEGORIES:Kurssi,Vuoropoikkeus
END:VEVENT
END:VCALENDAR