BEGIN:VCALENDAR
VERSION:2.0
PRODID:-//Jousiammuntaseura Robin Hood - ECPv5.14.1//NONSGML v1.0//EN
CALSCALE:GREGORIAN
METHOD:PUBLISH
X-WR-CALNAME:Jousiammuntaseura Robin Hood
X-ORIGINAL-URL:https://hood-espoo.fi/?lang=en
X-WR-CALDESC:Events for Jousiammuntaseura Robin Hood
BEGIN:VTIMEZONE
TZID:Europe/Helsinki
BEGIN:DAYLIGHT
TZOFFSETFROM:+0200
TZOFFSETTO:+0300
TZNAME:EEST
DTSTART:20230326T010000
END:DAYLIGHT
BEGIN:STANDARD
TZOFFSETFROM:+0300
TZOFFSETTO:+0200
TZNAME:EET
DTSTART:20231029T010000
END:STANDARD
END:VTIMEZONE
BEGIN:VEVENT
DTSTART;TZID=Europe/Helsinki:20230312T133000
DTEND;TZID=Europe/Helsinki:20230312T160000
DTSTAMP:20260424T001701
CREATED:20230129T112512Z
LAST-MODIFIED:20230129T112512Z
UID:8170-1678627800-1678636800@hood-espoo.fi
SUMMARY:March divari competition
DESCRIPTION:
URL:https://hood-espoo.fi/event/march-divari-competition/?lang=en
END:VEVENT
END:VCALENDAR