BEGIN:VCALENDAR
VERSION:2.0
PRODID:-//Jousiammuntaseura Robin Hood - ECPv5.14.1//NONSGML v1.0//EN
CALSCALE:GREGORIAN
METHOD:PUBLISH
X-WR-CALNAME:Jousiammuntaseura Robin Hood
X-ORIGINAL-URL:https://hood-espoo.fi/?lang=en
X-WR-CALDESC:Events for Jousiammuntaseura Robin Hood
BEGIN:VTIMEZONE
TZID:Europe/Helsinki
BEGIN:DAYLIGHT
TZOFFSETFROM:+0200
TZOFFSETTO:+0300
TZNAME:EEST
DTSTART:20180325T010000
END:DAYLIGHT
BEGIN:STANDARD
TZOFFSETFROM:+0300
TZOFFSETTO:+0200
TZNAME:EET
DTSTART:20181028T010000
END:STANDARD
END:VTIMEZONE
BEGIN:VEVENT
DTSTART;VALUE=DATE:20180621
DTEND;VALUE=DATE:20180625
DTSTAMP:20260423T205006
CREATED:20180620T203003Z
LAST-MODIFIED:20180620T203003Z
UID:6043-1529539200-1529884799@hood-espoo.fi
SUMMARY:Midsummer - No guided sessions
DESCRIPTION:During midsummer there will be no guided sessions\, have a very good midsummer weekend!
URL:https://hood-espoo.fi/event/midsummer-no-guided-sessions/?lang=en
END:VEVENT
END:VCALENDAR