BEGIN:VCALENDAR
VERSION:2.0
PRODID:-//Jousiammuntaseura Robin Hood - ECPv5.14.1//NONSGML v1.0//EN
CALSCALE:GREGORIAN
METHOD:PUBLISH
X-WR-CALNAME:Jousiammuntaseura Robin Hood
X-ORIGINAL-URL:https://hood-espoo.fi
X-WR-CALDESC:Tapahtumat Jousiammuntaseura Robin Hood
BEGIN:VTIMEZONE
TZID:Europe/Helsinki
BEGIN:DAYLIGHT
TZOFFSETFROM:+0200
TZOFFSETTO:+0300
TZNAME:EEST
DTSTART:20210328T010000
END:DAYLIGHT
BEGIN:STANDARD
TZOFFSETFROM:+0300
TZOFFSETTO:+0200
TZNAME:EET
DTSTART:20211031T010000
END:STANDARD
END:VTIMEZONE
BEGIN:VEVENT
DTSTART;TZID=Europe/Helsinki:20210920T183000
DTEND;TZID=Europe/Helsinki:20210920T193000
DTSTAMP:20260423T115735
CREATED:20210917T201826Z
LAST-MODIFIED:20210917T201826Z
UID:7374-1632162600-1632166200@hood-espoo.fi
SUMMARY:Mitalikahvit
DESCRIPTION:
URL:https://hood-espoo.fi/event/mitalikahvit/
CATEGORIES:Etusivu,Hood
END:VEVENT
END:VCALENDAR