BEGIN:VCALENDAR
VERSION:2.0
PRODID:-//Jousiammuntaseura Robin Hood - ECPv5.14.1//NONSGML v1.0//EN
CALSCALE:GREGORIAN
METHOD:PUBLISH
X-WR-CALNAME:Jousiammuntaseura Robin Hood
X-ORIGINAL-URL:https://hood-espoo.fi/?lang=en
X-WR-CALDESC:Events for Jousiammuntaseura Robin Hood
BEGIN:VTIMEZONE
TZID:Europe/Helsinki
BEGIN:DAYLIGHT
TZOFFSETFROM:+0200
TZOFFSETTO:+0300
TZNAME:EEST
DTSTART:20210328T010000
END:DAYLIGHT
BEGIN:STANDARD
TZOFFSETFROM:+0300
TZOFFSETTO:+0200
TZNAME:EET
DTSTART:20211031T010000
END:STANDARD
END:VTIMEZONE
BEGIN:VEVENT
DTSTART;TZID=Europe/Helsinki:20210901T080000
DTEND;TZID=Europe/Helsinki:20210902T170000
DTSTAMP:20260423T115930
CREATED:20210901T083827Z
LAST-MODIFIED:20210901T083827Z
UID:7353-1630483200-1630602000@hood-espoo.fi
SUMMARY:No beginner's practice on 1.9. and 2.9.
DESCRIPTION:There are no beginner’s practices on 1.9. and 2.9.
URL:https://hood-espoo.fi/event/no-beginners-practice-on-1-9-and-2-9/?lang=en
CATEGORIES:exceptions
END:VEVENT
END:VCALENDAR