BEGIN:VCALENDAR
VERSION:2.0
PRODID:-//Jousiammuntaseura Robin Hood - ECPv5.14.1//NONSGML v1.0//EN
CALSCALE:GREGORIAN
METHOD:PUBLISH
X-WR-CALNAME:Jousiammuntaseura Robin Hood
X-ORIGINAL-URL:https://hood-espoo.fi/?lang=en
X-WR-CALDESC:Events for Jousiammuntaseura Robin Hood
BEGIN:VTIMEZONE
TZID:Europe/Helsinki
BEGIN:DAYLIGHT
TZOFFSETFROM:+0200
TZOFFSETTO:+0300
TZNAME:EEST
DTSTART:20170326T010000
END:DAYLIGHT
BEGIN:STANDARD
TZOFFSETFROM:+0300
TZOFFSETTO:+0200
TZNAME:EET
DTSTART:20171029T010000
END:STANDARD
END:VTIMEZONE
BEGIN:VEVENT
DTSTART;VALUE=DATE:20171114
DTEND;VALUE=DATE:20171119
DTSTAMP:20260423T133118
CREATED:20171018T081251Z
LAST-MODIFIED:20171018T081251Z
UID:5571-1510617600-1511049599@hood-espoo.fi
SUMMARY:No practice (range closed)
DESCRIPTION:There is no practice between 14.11.-18.11. due to maintenance in hall.
URL:https://hood-espoo.fi/event/no-practice-range-closed/?lang=en
CATEGORIES:exceptions
END:VEVENT
END:VCALENDAR