BEGIN:VCALENDAR
VERSION:2.0
PRODID:-//Jousiammuntaseura Robin Hood - ECPv5.14.1//NONSGML v1.0//EN
CALSCALE:GREGORIAN
METHOD:PUBLISH
X-WR-CALNAME:Jousiammuntaseura Robin Hood
X-ORIGINAL-URL:https://hood-espoo.fi/?lang=en
X-WR-CALDESC:Events for Jousiammuntaseura Robin Hood
BEGIN:VTIMEZONE
TZID:Europe/Helsinki
BEGIN:DAYLIGHT
TZOFFSETFROM:+0200
TZOFFSETTO:+0300
TZNAME:EEST
DTSTART:20190331T010000
END:DAYLIGHT
BEGIN:STANDARD
TZOFFSETFROM:+0300
TZOFFSETTO:+0200
TZNAME:EET
DTSTART:20191027T010000
END:STANDARD
END:VTIMEZONE
BEGIN:VEVENT
DTSTART;TZID=Europe/Helsinki:20190111T080000
DTEND;TZID=Europe/Helsinki:20190113T170000
DTSTAMP:20260423T144915
CREATED:20181020T082034Z
LAST-MODIFIED:20181020T082034Z
UID:6170-1547193600-1547398800@hood-espoo.fi
SUMMARY:No practices
DESCRIPTION:No practices due to ESF competition.
URL:https://hood-espoo.fi/event/no-practices-2/?lang=en
CATEGORIES:exceptions
END:VEVENT
END:VCALENDAR