BEGIN:VCALENDAR
VERSION:2.0
PRODID:-//Jousiammuntaseura Robin Hood - ECPv5.14.1//NONSGML v1.0//EN
CALSCALE:GREGORIAN
METHOD:PUBLISH
X-WR-CALNAME:Jousiammuntaseura Robin Hood
X-ORIGINAL-URL:https://hood-espoo.fi/?lang=en
X-WR-CALDESC:Events for Jousiammuntaseura Robin Hood
BEGIN:VTIMEZONE
TZID:Europe/Helsinki
BEGIN:DAYLIGHT
TZOFFSETFROM:+0200
TZOFFSETTO:+0300
TZNAME:EEST
DTSTART:20190331T010000
END:DAYLIGHT
BEGIN:STANDARD
TZOFFSETFROM:+0300
TZOFFSETTO:+0200
TZNAME:EET
DTSTART:20191027T010000
END:STANDARD
END:VTIMEZONE
BEGIN:VEVENT
DTSTART;TZID=Europe/Helsinki:20190323T100000
DTEND;TZID=Europe/Helsinki:20190324T150000
DTSTAMP:20260423T143417
CREATED:20190210T095810Z
LAST-MODIFIED:20190210T095810Z
UID:6358-1553335200-1553439600@hood-espoo.fi
SUMMARY:No practices
DESCRIPTION:No practices due to Takado camp.
URL:https://hood-espoo.fi/event/no-practices-5/?lang=en
CATEGORIES:exceptions
END:VEVENT
END:VCALENDAR