BEGIN:VCALENDAR
VERSION:2.0
PRODID:-//Jousiammuntaseura Robin Hood - ECPv5.14.1//NONSGML v1.0//EN
CALSCALE:GREGORIAN
METHOD:PUBLISH
X-WR-CALNAME:Jousiammuntaseura Robin Hood
X-ORIGINAL-URL:https://hood-espoo.fi
X-WR-CALDESC:Tapahtumat Jousiammuntaseura Robin Hood
BEGIN:VTIMEZONE
TZID:Europe/Helsinki
BEGIN:DAYLIGHT
TZOFFSETFROM:+0200
TZOFFSETTO:+0300
TZNAME:EEST
DTSTART:20190331T010000
END:DAYLIGHT
BEGIN:STANDARD
TZOFFSETFROM:+0300
TZOFFSETTO:+0200
TZNAME:EET
DTSTART:20191027T010000
END:STANDARD
END:VTIMEZONE
BEGIN:VEVENT
DTSTART;TZID=Europe/Helsinki:20190423T150000
DTEND;TZID=Europe/Helsinki:20190423T173000
DTSTAMP:20260423T122659
CREATED:20190409T082542Z
LAST-MODIFIED:20190409T082542Z
UID:6471-1556031600-1556040600@hood-espoo.fi
SUMMARY:Normaalia lyhyempi vuoro
DESCRIPTION:Ampumakilpailun vuoksi lyhyempi vuoro Hoodilla 23.4.2019. 15-17.30.
URL:https://hood-espoo.fi/event/normaalia-lyhyempi-vuoro/
LOCATION:Tuulimäki\, Tapiola\, Itätuulenkuja 9\, Espoo\, 02100\, Suomi
END:VEVENT
END:VCALENDAR