BEGIN:VCALENDAR
VERSION:2.0
PRODID:-//Jousiammuntaseura Robin Hood - ECPv5.14.1//NONSGML v1.0//EN
CALSCALE:GREGORIAN
METHOD:PUBLISH
X-WR-CALNAME:Jousiammuntaseura Robin Hood
X-ORIGINAL-URL:https://hood-espoo.fi
X-WR-CALDESC:Tapahtumat Jousiammuntaseura Robin Hood
BEGIN:VTIMEZONE
TZID:Europe/Helsinki
BEGIN:DAYLIGHT
TZOFFSETFROM:+0200
TZOFFSETTO:+0300
TZNAME:EEST
DTSTART:20190331T010000
END:DAYLIGHT
BEGIN:STANDARD
TZOFFSETFROM:+0300
TZOFFSETTO:+0200
TZNAME:EET
DTSTART:20191027T010000
END:STANDARD
END:VTIMEZONE
BEGIN:VEVENT
DTSTART;TZID=Europe/Helsinki:20190904T160000
DTEND;TZID=Europe/Helsinki:20190904T180000
DTSTAMP:20260423T135026
CREATED:20190812T095747Z
LAST-MODIFIED:20190812T095747Z
UID:6640-1567612800-1567620000@hood-espoo.fi
SUMMARY:Nuorten ja junnujen harrasteryhmän harjoitukset Tuulimäessä 2019
DESCRIPTION:Nuorille jousiampujille on Hoodissa kaikkien ikäluokkien yhteinen harrasteryhmä\, joka kokoontuu Tuulimäessä talvikaudella 2019 – 2020 keskiviikkoisin klo 16 – 18. Harjoitukset alkavat 4.9.2019 klo 16.00. \nLisätiedot täältä: https://hood-espoo.fi/harjoitukset/junioriryhmat/
URL:https://hood-espoo.fi/event/nuorten-ja-junnujen-harrasteryhman-harjoitukset-tuulimaessa-2019/
LOCATION:Tuulimäki\, Tapiola\, Itätuulenkuja 9\, Espoo\, 02100\, Suomi
END:VEVENT
END:VCALENDAR