BEGIN:VCALENDAR
VERSION:2.0
PRODID:-//Jousiammuntaseura Robin Hood - ECPv5.14.1//NONSGML v1.0//EN
CALSCALE:GREGORIAN
METHOD:PUBLISH
X-WR-CALNAME:Jousiammuntaseura Robin Hood
X-ORIGINAL-URL:https://hood-espoo.fi
X-WR-CALDESC:Tapahtumat Jousiammuntaseura Robin Hood
BEGIN:VTIMEZONE
TZID:Europe/Helsinki
BEGIN:DAYLIGHT
TZOFFSETFROM:+0200
TZOFFSETTO:+0300
TZNAME:EEST
DTSTART:20190331T010000
END:DAYLIGHT
BEGIN:STANDARD
TZOFFSETFROM:+0300
TZOFFSETTO:+0200
TZNAME:EET
DTSTART:20191027T010000
END:STANDARD
END:VTIMEZONE
BEGIN:VEVENT
DTSTART;TZID=Europe/Helsinki:20190907T133000
DTEND;TZID=Europe/Helsinki:20190907T153000
DTSTAMP:20260423T104536
CREATED:20190812T100617Z
LAST-MODIFIED:20190812T100617Z
UID:6645-1567863000-1567870200@hood-espoo.fi
SUMMARY:Nuorten ja junnujen valmennusryhmän harjoitukset 2019
DESCRIPTION:Valmennusryhmä aloittaa toimintansa lauantaina 7.9.2019 klo 13.30.\nLisätiedot täältä: https://hood-espoo.fi/harjoitukset/junioriryhmat/
URL:https://hood-espoo.fi/event/nuorten-ja-junnujen-valmennusryhman-harjoitukset-2019/
LOCATION:Tuulimäki\, Tapiola\, Itätuulenkuja 9\, Espoo\, 02100\, Suomi
ORGANIZER;CN="Robin%20Hood%20ry":MAILTO:info@hood-espoo.fi
END:VEVENT
END:VCALENDAR