BEGIN:VCALENDAR
VERSION:2.0
PRODID:-//Jousiammuntaseura Robin Hood - ECPv5.14.1//NONSGML v1.0//EN
CALSCALE:GREGORIAN
METHOD:PUBLISH
X-WR-CALNAME:Jousiammuntaseura Robin Hood
X-ORIGINAL-URL:https://hood-espoo.fi/?lang=en
X-WR-CALDESC:Events for Jousiammuntaseura Robin Hood
BEGIN:VTIMEZONE
TZID:Europe/Helsinki
BEGIN:DAYLIGHT
TZOFFSETFROM:+0200
TZOFFSETTO:+0300
TZNAME:EEST
DTSTART:20170326T010000
END:DAYLIGHT
BEGIN:STANDARD
TZOFFSETFROM:+0300
TZOFFSETTO:+0200
TZNAME:EET
DTSTART:20171029T010000
END:STANDARD
END:VTIMEZONE
BEGIN:VEVENT
DTSTART;TZID=Europe/Helsinki:20170425T180000
DTEND;TZID=Europe/Helsinki:20170425T190000
DTSTAMP:20260423T192515
CREATED:20170419T113238Z
LAST-MODIFIED:20170419T113238Z
UID:5148-1493143200-1493146800@hood-espoo.fi
SUMMARY:Official spring meeting
DESCRIPTION:Club’s official spring meeting is held in Tuulimäki from 6 pm onwards.
URL:https://hood-espoo.fi/event/official-spring-meeting/?lang=en
END:VEVENT
END:VCALENDAR