BEGIN:VCALENDAR
VERSION:2.0
PRODID:-//Jousiammuntaseura Robin Hood - ECPv5.14.1//NONSGML v1.0//EN
CALSCALE:GREGORIAN
METHOD:PUBLISH
X-WR-CALNAME:Jousiammuntaseura Robin Hood
X-ORIGINAL-URL:https://hood-espoo.fi
X-WR-CALDESC:Tapahtumat Jousiammuntaseura Robin Hood
BEGIN:VTIMEZONE
TZID:Europe/Helsinki
BEGIN:DAYLIGHT
TZOFFSETFROM:+0200
TZOFFSETTO:+0300
TZNAME:EEST
DTSTART:20220327T010000
END:DAYLIGHT
BEGIN:STANDARD
TZOFFSETFROM:+0300
TZOFFSETTO:+0200
TZNAME:EET
DTSTART:20221030T010000
END:STANDARD
END:VTIMEZONE
BEGIN:VEVENT
DTSTART;TZID=Europe/Helsinki:20220605T090000
DTEND;TZID=Europe/Helsinki:20220605T170000
DTSTAMP:20260424T014436
CREATED:20220522T175657Z
LAST-MODIFIED:20220522T175657Z
UID:7696-1654419600-1654448400@hood-espoo.fi
SUMMARY:Oittaa 3D
DESCRIPTION:
URL:https://hood-espoo.fi/event/oittaa-3d/
CATEGORIES:Etusivu,Hood,Kilpailut
END:VEVENT
END:VCALENDAR