BEGIN:VCALENDAR
VERSION:2.0
PRODID:-//Jousiammuntaseura Robin Hood - ECPv5.14.1//NONSGML v1.0//EN
CALSCALE:GREGORIAN
METHOD:PUBLISH
X-WR-CALNAME:Jousiammuntaseura Robin Hood
X-ORIGINAL-URL:https://hood-espoo.fi
X-WR-CALDESC:Tapahtumat Jousiammuntaseura Robin Hood
BEGIN:VTIMEZONE
TZID:Europe/Helsinki
BEGIN:DAYLIGHT
TZOFFSETFROM:+0200
TZOFFSETTO:+0300
TZNAME:EEST
DTSTART:20140330T010000
END:DAYLIGHT
BEGIN:STANDARD
TZOFFSETFROM:+0300
TZOFFSETTO:+0200
TZNAME:EET
DTSTART:20141026T010000
END:STANDARD
END:VTIMEZONE
BEGIN:VEVENT
DTSTART;VALUE=DATE:20140330
DTEND;VALUE=DATE:20140331
DTSTAMP:20260421T224717
CREATED:20140307T074013Z
LAST-MODIFIED:20140323T081021Z
UID:2727-1396137600-1396223999@hood-espoo.fi
SUMMARY:Oittaan Kevättalkoot 22.3. ja 30.3.
DESCRIPTION:Oittaalla järjestetään kevättalkoot 22.3. ja 30.3. \nTalkoiden ohjelmaa: \nLA 22.3. KLO 1000\n– kannetaan taustoja metsään\, 6 – 8 kpl\, leirin lähimaastoon\n– testipystytetään vähintään 2 – 3 taustaa\n– uusi iso tausta ns. Tapanin suoralle\, josta siirretään korkea tausta lähirastille no 18\, parkkipaikan läheisyydessä\, pieni aukio\, ampumasuunta pohjoiseen. Tällä turvataan takasektori!\n– siistitään rastin no 6 edusta ja viedään kuormalava tai kaksi helpottamaan kulkua \nHUOM!\nTarvitaan vähintään parit akkuporakoneet! \nSU 30.3. KLO 1000\n– jatketaan pystytyksillä\n– ripustetaan uudet rastinumerotaskut (eteläosa\, pohjoisrata myöhemmin) ja samalla korjataan kaikki vanhat numerot pois \nKaikki mukaan rakentamaan uutta maastorataa!!
URL:https://hood-espoo.fi/event/oittaan-kevattalkoot-22-3-ja-30-3/
LOCATION:Oittaan maastoammuntarata\, Kellonummentie 5\, Espoo\, 02740\, Suomi
CATEGORIES:BHT,Hood,Talkoot
END:VEVENT
END:VCALENDAR