BEGIN:VCALENDAR
VERSION:2.0
PRODID:-//Jousiammuntaseura Robin Hood - ECPv5.14.1//NONSGML v1.0//EN
CALSCALE:GREGORIAN
METHOD:PUBLISH
X-WR-CALNAME:Jousiammuntaseura Robin Hood
X-ORIGINAL-URL:https://hood-espoo.fi
X-WR-CALDESC:Tapahtumat Jousiammuntaseura Robin Hood
BEGIN:VTIMEZONE
TZID:Europe/Helsinki
BEGIN:DAYLIGHT
TZOFFSETFROM:+0200
TZOFFSETTO:+0300
TZNAME:EEST
DTSTART:20140330T010000
END:DAYLIGHT
BEGIN:STANDARD
TZOFFSETFROM:+0300
TZOFFSETTO:+0200
TZNAME:EET
DTSTART:20141026T010000
END:STANDARD
END:VTIMEZONE
BEGIN:VEVENT
DTSTART;TZID=Europe/Helsinki:20141213T150000
DTEND;TZID=Europe/Helsinki:20141213T170000
DTSTAMP:20260422T140140
CREATED:20141126T183722Z
LAST-MODIFIED:20141126T183722Z
UID:2984-1418482800-1418490000@hood-espoo.fi
SUMMARY:Pikkujoulut
DESCRIPTION:Seuran pikkujoulut Tuulimäessä lauantaina 13.12. klo 15-17. Tervetuloa!
URL:https://hood-espoo.fi/event/pikkujoulut-4/
LOCATION:Tuulimäki\, Tapiola\, Itätuulenkuja 9\, Espoo\, 02100\, Suomi
CATEGORIES:Hood
END:VEVENT
END:VCALENDAR