BEGIN:VCALENDAR
VERSION:2.0
PRODID:-//Jousiammuntaseura Robin Hood - ECPv5.14.1//NONSGML v1.0//EN
CALSCALE:GREGORIAN
METHOD:PUBLISH
X-WR-CALNAME:Jousiammuntaseura Robin Hood
X-ORIGINAL-URL:https://hood-espoo.fi/?lang=en
X-WR-CALDESC:Events for Jousiammuntaseura Robin Hood
BEGIN:VTIMEZONE
TZID:Europe/Helsinki
BEGIN:DAYLIGHT
TZOFFSETFROM:+0200
TZOFFSETTO:+0300
TZNAME:EEST
DTSTART:20170326T010000
END:DAYLIGHT
BEGIN:STANDARD
TZOFFSETFROM:+0300
TZOFFSETTO:+0200
TZNAME:EET
DTSTART:20171029T010000
END:STANDARD
END:VTIMEZONE
BEGIN:VEVENT
DTSTART;TZID=Europe/Helsinki:20171110T180000
DTEND;TZID=Europe/Helsinki:20171110T200000
DTSTAMP:20260423T085621
CREATED:20171013T123358Z
LAST-MODIFIED:20171013T123358Z
UID:5557-1510336800-1510344000@hood-espoo.fi
SUMMARY:Preparing range for saturday's competition
DESCRIPTION:
URL:https://hood-espoo.fi/event/preparing-range-for-saturdays-competition/?lang=en
CATEGORIES:competition,work party
END:VEVENT
END:VCALENDAR