BEGIN:VCALENDAR
VERSION:2.0
PRODID:-//Jousiammuntaseura Robin Hood - ECPv5.14.1//NONSGML v1.0//EN
CALSCALE:GREGORIAN
METHOD:PUBLISH
X-WR-CALNAME:Jousiammuntaseura Robin Hood
X-ORIGINAL-URL:https://hood-espoo.fi
X-WR-CALDESC:Tapahtumat Jousiammuntaseura Robin Hood
BEGIN:VTIMEZONE
TZID:Europe/Helsinki
BEGIN:DAYLIGHT
TZOFFSETFROM:+0200
TZOFFSETTO:+0300
TZNAME:EEST
DTSTART:20180325T010000
END:DAYLIGHT
BEGIN:STANDARD
TZOFFSETFROM:+0300
TZOFFSETTO:+0200
TZNAME:EET
DTSTART:20181028T010000
END:STANDARD
END:VTIMEZONE
BEGIN:VEVENT
DTSTART;TZID=Europe/Helsinki:20181104T110000
DTEND;TZID=Europe/Helsinki:20181104T140000
DTSTAMP:20260423T133313
CREATED:20181031T205820Z
LAST-MODIFIED:20181031T205820Z
UID:6202-1541329200-1541340000@hood-espoo.fi
SUMMARY:Ruskeasuon syystalkoot
DESCRIPTION:Ruskeasuolla järjestetään syystalkoot ensi sunnuntaina kello 11-14. Taustat siirretään varastoon\, rata siivotaan talvikuntoon.
URL:https://hood-espoo.fi/event/ruskeasuon-syystalkoot-2/
LOCATION:Ruskeasuon jousiammuntarata\, Tenholanpolku\, Helsinki\, Finland
CATEGORIES:Talkoot
END:VEVENT
END:VCALENDAR