BEGIN:VCALENDAR
VERSION:2.0
PRODID:-//Jousiammuntaseura Robin Hood - ECPv5.14.1//NONSGML v1.0//EN
CALSCALE:GREGORIAN
METHOD:PUBLISH
X-WR-CALNAME:Jousiammuntaseura Robin Hood
X-ORIGINAL-URL:https://hood-espoo.fi
X-WR-CALDESC:Tapahtumat Jousiammuntaseura Robin Hood
BEGIN:VTIMEZONE
TZID:Europe/Helsinki
BEGIN:DAYLIGHT
TZOFFSETFROM:+0200
TZOFFSETTO:+0300
TZNAME:EEST
DTSTART:20190331T010000
END:DAYLIGHT
BEGIN:STANDARD
TZOFFSETFROM:+0300
TZOFFSETTO:+0200
TZNAME:EET
DTSTART:20191027T010000
END:STANDARD
END:VTIMEZONE
BEGIN:VEVENT
DTSTART;TZID=Europe/Helsinki:20191103T110000
DTEND;TZID=Europe/Helsinki:20191103T140000
DTSTAMP:20260423T073249
CREATED:20191029T084749Z
LAST-MODIFIED:20191029T084749Z
UID:6784-1572778800-1572789600@hood-espoo.fi
SUMMARY:Ruskeasuon syystalkoot.
DESCRIPTION:Ruskeasuolla järjestetään syystalkoot ensi sunnuntaina kello 11-14. Taustat siirretään varastoon\, rata siivotaan talvikuntoon. \nhttps://www.facebook.com/events/2407218396042387/
URL:https://hood-espoo.fi/event/ruskeasuon-syystalkoot-3/
CATEGORIES:Talkoot
END:VEVENT
END:VCALENDAR