BEGIN:VCALENDAR
VERSION:2.0
PRODID:-//Jousiammuntaseura Robin Hood - ECPv5.14.1//NONSGML v1.0//EN
CALSCALE:GREGORIAN
METHOD:PUBLISH
X-WR-CALNAME:Jousiammuntaseura Robin Hood
X-ORIGINAL-URL:https://hood-espoo.fi
X-WR-CALDESC:Tapahtumat Jousiammuntaseura Robin Hood
BEGIN:VTIMEZONE
TZID:Europe/Helsinki
BEGIN:DAYLIGHT
TZOFFSETFROM:+0200
TZOFFSETTO:+0300
TZNAME:EEST
DTSTART:20170326T010000
END:DAYLIGHT
BEGIN:STANDARD
TZOFFSETFROM:+0300
TZOFFSETTO:+0200
TZNAME:EET
DTSTART:20171029T010000
END:STANDARD
END:VTIMEZONE
BEGIN:VEVENT
DTSTART;TZID=Europe/Helsinki:20170828T173000
DTEND;TZID=Europe/Helsinki:20170828T203000
DTSTAMP:20260423T180658
CREATED:20170821T191307Z
LAST-MODIFIED:20170821T191512Z
UID:5420-1503941400-1503952200@hood-espoo.fi
SUMMARY:Seuramestaruussarjan kenttäkisa
DESCRIPTION:Seuramestaruussarjan ensimmäinen osa. \nhttps://hood-espoo.fi/blog/2017/08/18/robin-hoodin-mestaruussarja-alkaa/
URL:https://hood-espoo.fi/event/seuramestaruussarjan-kenttakisa/
LOCATION:Ruskeasuon jousiammuntarata\, Tenholanpolku\, Helsinki\, Finland
CATEGORIES:Hood,Kilpailut
END:VEVENT
END:VCALENDAR