BEGIN:VCALENDAR
VERSION:2.0
PRODID:-//Jousiammuntaseura Robin Hood - ECPv5.14.1//NONSGML v1.0//EN
CALSCALE:GREGORIAN
METHOD:PUBLISH
X-WR-CALNAME:Jousiammuntaseura Robin Hood
X-ORIGINAL-URL:https://hood-espoo.fi
X-WR-CALDESC:Tapahtumat Jousiammuntaseura Robin Hood
BEGIN:VTIMEZONE
TZID:Europe/Helsinki
BEGIN:DAYLIGHT
TZOFFSETFROM:+0200
TZOFFSETTO:+0300
TZNAME:EEST
DTSTART:20170326T010000
END:DAYLIGHT
BEGIN:STANDARD
TZOFFSETFROM:+0300
TZOFFSETTO:+0200
TZNAME:EET
DTSTART:20171029T010000
END:STANDARD
END:VTIMEZONE
BEGIN:VEVENT
DTSTART;TZID=Europe/Helsinki:20170917T113000
DTEND;TZID=Europe/Helsinki:20170917T160000
DTSTAMP:20260423T142858
CREATED:20170821T191419Z
LAST-MODIFIED:20170914T182736Z
UID:5423-1505647800-1505664000@hood-espoo.fi
SUMMARY:Seuramestaruussarjan maastokisa
DESCRIPTION:Seuramestaruussarjan maasto-osuus. \nKisassa ammutaan 8 maastoammuntataulurastia ja 8 3D-eläinkuvaa. Nämä tulevat radalla vastaan satunnaisessa järjestyksessä. Taulurasteilla osassa on annetut etäisyydet\, osassa arvioitavat. \nKullakin rastilla on neljä ammuntapaalua (3D:ssä kolme)\, jotka yleensä ovat eri matkoilla. Kilpailijan ammuntapaalu määräytyy iän ja aselajin mukaan siten\, että talja- ja tähtäinjousilla ammutaan pitemmiltä matkoilta kuin vaisto- ja pitkäjousilla. Lisäksi aikuiset ampuvat pitemmiltä matkoilta kuin juniorit. \nMahdolliset etäisyyden eri sarjoille löytyvät SJAL:n kilpailusäännöistä Maastoammunnan osalta https://www.sjal.fi/@Bin/342765/Kansalliset+s%C3%A4%C3%A4nn%C3%B6t+2017-7-11.pdf Taulujen kohdalla ne löytyvät sivulta 23 ja 3D-rastien osalta sivulla 25. \nKilpailijat ampuvat rastilla kaksi kerrallaan\, vaihtaen joka rastilla aloittavaa paria. \nTaulurastit \nKilpailija ampuu kolme nuolta rastia kohden 6-renkaiseen tauluun. Korkein pistemäärä rastilta on tällöin 18 pistettä. \nMaastotauluja on neljää kokoa\, ammuntamatkojen mukaan. \n\n80 cm tauluun ammutaan korkeintaan 60 metrin matkalta. Kaikki kilpailijat ampuvat samaan tauluun.\n60 cm tauluun korkeintaan 45 metrin matkalta. Kaikki kilpailijat ampuvat samaan tauluun.\n40 cm tauluun korkeintaan 30 metrin matkalta. Näitä tauluja on taustassa neljä kappaletta ja jokainen kilpailija ampuu omaan tauluunsa.\n20 cm tauluun korkeintaan 20 metrin matkalta. Näitä tauluja on taustassa 12 kappaletta ja jokainen kilpailija ampuu jokaisen nuolensa eri tauluun.\n\nKannattaa huomioida\, että kuuden pisteen alue on muita pienempi\, vain kymmenesosa koko taulun koosta ja pienimmillään halkaisijaltaan 2 cm. \n3D-rastit \nKilpailija ampuu kaksi nuolta rastia kohti. eläinkuvat on jaettu neljään pistevyöhykkeeseen\, siten että vitaalialueen osumista saa 11\, 10 tai 8 pistettä osuman tarkkuuden mukaan ja muuhun eläimeen osuvasta nuolesta 5 pistettä. \nEläinkuvat on jaoteltu neljään ryhmään 11-10-pistealueen mukaan\, suurimmassa ryhmässä alueen korkeuden ollessa yli 130mm ja pienimmässä alle 70 mm. Taulurasteista poiketen\, ei eläinkuvan koko rajoita etäisyyksiä joita sitä voidaan ampua. \nhttps://hood-espoo.fi/blog/2017/08/18/robin-hoodin-mestaruussarja-alkaa/
URL:https://hood-espoo.fi/event/seuramestaruussarjan-maastokis/
LOCATION:Oittaan maastoammuntarata\, Kellonummentie 5\, Espoo\, 02740\, Suomi
CATEGORIES:Hood,Kilpailut
END:VEVENT
END:VCALENDAR