BEGIN:VCALENDAR
VERSION:2.0
PRODID:-//Jousiammuntaseura Robin Hood - ECPv5.14.1//NONSGML v1.0//EN
CALSCALE:GREGORIAN
METHOD:PUBLISH
X-WR-CALNAME:Jousiammuntaseura Robin Hood
X-ORIGINAL-URL:https://hood-espoo.fi/?lang=en
X-WR-CALDESC:Events for Jousiammuntaseura Robin Hood
BEGIN:VTIMEZONE
TZID:Europe/Helsinki
BEGIN:DAYLIGHT
TZOFFSETFROM:+0200
TZOFFSETTO:+0300
TZNAME:EEST
DTSTART:20170326T010000
END:DAYLIGHT
BEGIN:STANDARD
TZOFFSETFROM:+0300
TZOFFSETTO:+0200
TZNAME:EET
DTSTART:20171029T010000
END:STANDARD
END:VTIMEZONE
BEGIN:VEVENT
DTSTART;TZID=Europe/Helsinki:20170422T130000
DTEND;TZID=Europe/Helsinki:20170422T170000
DTSTAMP:20260423T170921
CREATED:20170222T201849Z
LAST-MODIFIED:20170222T202208Z
UID:4995-1492866000-1492880400@hood-espoo.fi
SUMMARY:Shorter training session
DESCRIPTION:Indoor hall is open from 13:00 to 17:00. Beginners session is from 13:30 to 15:30.
URL:https://hood-espoo.fi/event/shorter-training-session/?lang=en
LOCATION:Tuulimäki\, Tapiola\, Itätuulenkuja 9\, Espoo\, 02100\, Suomi
CATEGORIES:exceptions
END:VEVENT
END:VCALENDAR