BEGIN:VCALENDAR
VERSION:2.0
PRODID:-//Jousiammuntaseura Robin Hood - ECPv5.14.1//NONSGML v1.0//EN
CALSCALE:GREGORIAN
METHOD:PUBLISH
X-WR-CALNAME:Jousiammuntaseura Robin Hood
X-ORIGINAL-URL:https://hood-espoo.fi/?lang=en
X-WR-CALDESC:Events for Jousiammuntaseura Robin Hood
BEGIN:VTIMEZONE
TZID:Europe/Helsinki
BEGIN:DAYLIGHT
TZOFFSETFROM:+0200
TZOFFSETTO:+0300
TZNAME:EEST
DTSTART:20180325T010000
END:DAYLIGHT
BEGIN:STANDARD
TZOFFSETFROM:+0300
TZOFFSETTO:+0200
TZNAME:EET
DTSTART:20181028T010000
END:STANDARD
END:VTIMEZONE
BEGIN:VEVENT
DTSTART;TZID=Europe/Helsinki:20180425T190000
DTEND;TZID=Europe/Helsinki:20180425T200000
DTSTAMP:20260423T162615
CREATED:20180411T084226Z
LAST-MODIFIED:20180411T084226Z
UID:5952-1524682800-1524686400@hood-espoo.fi
SUMMARY:Spring meeting 2018
DESCRIPTION:The spring meeting of Robin Hood is held 25.4. 19:00 at Tuulimäki. \nThe agenda (in finnish): https://hood-espoo.fi/blog/2018/04/11/kevatkokouskutsu-2018/
URL:https://hood-espoo.fi/event/spring-meeting-2018/?lang=en
END:VEVENT
END:VCALENDAR