BEGIN:VCALENDAR
VERSION:2.0
PRODID:-//Jousiammuntaseura Robin Hood - ECPv5.14.1//NONSGML v1.0//EN
CALSCALE:GREGORIAN
METHOD:PUBLISH
X-WR-CALNAME:Jousiammuntaseura Robin Hood
X-ORIGINAL-URL:https://hood-espoo.fi/?lang=en
X-WR-CALDESC:Events for Jousiammuntaseura Robin Hood
BEGIN:VTIMEZONE
TZID:Europe/Helsinki
BEGIN:DAYLIGHT
TZOFFSETFROM:+0200
TZOFFSETTO:+0300
TZNAME:EEST
DTSTART:20170326T010000
END:DAYLIGHT
BEGIN:STANDARD
TZOFFSETFROM:+0300
TZOFFSETTO:+0200
TZNAME:EET
DTSTART:20171029T010000
END:STANDARD
END:VTIMEZONE
BEGIN:VEVENT
DTSTART;TZID=Europe/Helsinki:20170513T120000
DTEND;TZID=Europe/Helsinki:20170513T150000
DTSTAMP:20260423T204832
CREATED:20170509T180856Z
LAST-MODIFIED:20170509T180856Z
UID:5229-1494676800-1494687600@hood-espoo.fi
SUMMARY:Summer Start!
DESCRIPTION:Come with us to start the summer season with the first beginners session at the Ruskeasuo outdoor range. Grill is hot and this is a great moment to get acquaint with local customs and club actives.
URL:https://hood-espoo.fi/event/summer-start/?lang=en
ORGANIZER;CN="Robin%20Hood%20ry":MAILTO:info@hood-espoo.fi
END:VEVENT
END:VCALENDAR