BEGIN:VCALENDAR
VERSION:2.0
PRODID:-//Jousiammuntaseura Robin Hood - ECPv5.14.1//NONSGML v1.0//EN
CALSCALE:GREGORIAN
METHOD:PUBLISH
X-WR-CALNAME:Jousiammuntaseura Robin Hood
X-ORIGINAL-URL:https://hood-espoo.fi
X-WR-CALDESC:Tapahtumat Jousiammuntaseura Robin Hood
BEGIN:VTIMEZONE
TZID:Europe/Helsinki
BEGIN:DAYLIGHT
TZOFFSETFROM:+0200
TZOFFSETTO:+0300
TZNAME:EEST
DTSTART:20140330T010000
END:DAYLIGHT
BEGIN:STANDARD
TZOFFSETFROM:+0300
TZOFFSETTO:+0200
TZNAME:EET
DTSTART:20141026T010000
END:STANDARD
END:VTIMEZONE
BEGIN:VEVENT
DTSTART;TZID=Europe/Helsinki:20140522T160000
DTEND;TZID=Europe/Helsinki:20140522T200000
DTSTAMP:20260422T143101
CREATED:20140522T045926Z
LAST-MODIFIED:20140522T045926Z
UID:2812-1400774400-1400788800@hood-espoo.fi
SUMMARY:Suunnistajia Oittaalla 22.5. 16:30-20:00
DESCRIPTION:Oittaan maastoradalla liikkuu tänään illalla klo 16:30-20:00 välisenä aikana suunnistajia. Radan pohjoispuolen käyttöä tulisi mahdollisuuksien mukaan välttää ja muutenkin radalla olla valppaana. \n 
URL:https://hood-espoo.fi/event/suunnistajia-oittaalla-22-5-1630-2000/
LOCATION:Oittaan maastoammuntarata\, Kellonummentie 5\, Espoo\, 02740\, Suomi
CATEGORIES:Vuoropoikkeus
END:VEVENT
END:VCALENDAR