BEGIN:VCALENDAR
VERSION:2.0
PRODID:-//Jousiammuntaseura Robin Hood - ECPv5.14.1//NONSGML v1.0//EN
CALSCALE:GREGORIAN
METHOD:PUBLISH
X-WR-CALNAME:Jousiammuntaseura Robin Hood
X-ORIGINAL-URL:https://hood-espoo.fi
X-WR-CALDESC:Tapahtumat Jousiammuntaseura Robin Hood
BEGIN:VTIMEZONE
TZID:Europe/Helsinki
BEGIN:DAYLIGHT
TZOFFSETFROM:+0200
TZOFFSETTO:+0300
TZNAME:EEST
DTSTART:20140330T010000
END:DAYLIGHT
BEGIN:STANDARD
TZOFFSETFROM:+0300
TZOFFSETTO:+0200
TZNAME:EET
DTSTART:20141026T010000
END:STANDARD
END:VTIMEZONE
BEGIN:VEVENT
DTSTART;TZID=Europe/Helsinki:20141025T100000
DTEND;TZID=Europe/Helsinki:20141025T130000
DTSTAMP:20260422T235545
CREATED:20141023T110951Z
LAST-MODIFIED:20141023T110952Z
UID:2942-1414231200-1414242000@hood-espoo.fi
SUMMARY:Syystalkoot Ruskeasuolla
DESCRIPTION:Ruskeasuon jousiammuntaradalla järjestetään syystalkoot lauantaina 25.10. kello 10 alkaen. \nTarkoituksena on laittaa rata talvikuntoon ja sään salliessa asialistalla on mm. seuraavaa: \n\nsiirretään ylimääräiset taustat varastoon\nkorjataan taustoja ensi kesää varten\ninventoidaan kilpailutarvikkeet tulevan vuoden kisoja varten\nsiivotaan rata-alue\n\nTalkooeväät piirin puolesta\, hyvällä säällä vaikka grillausta.\n \nTervetuloa!
URL:https://hood-espoo.fi/event/syystalkoot-ruskeasuolla/
LOCATION:Ruskeasuon jousiammuntarata\, Tenholanpolku\, Helsinki\, Finland
CATEGORIES:Talkoot
END:VEVENT
END:VCALENDAR