BEGIN:VCALENDAR
VERSION:2.0
PRODID:-//Jousiammuntaseura Robin Hood - ECPv5.14.1//NONSGML v1.0//EN
CALSCALE:GREGORIAN
METHOD:PUBLISH
X-WR-CALNAME:Jousiammuntaseura Robin Hood
X-ORIGINAL-URL:https://hood-espoo.fi
X-WR-CALDESC:Tapahtumat Jousiammuntaseura Robin Hood
BEGIN:VTIMEZONE
TZID:Europe/Helsinki
BEGIN:DAYLIGHT
TZOFFSETFROM:+0200
TZOFFSETTO:+0300
TZNAME:EEST
DTSTART:20160327T010000
END:DAYLIGHT
BEGIN:STANDARD
TZOFFSETFROM:+0300
TZOFFSETTO:+0200
TZNAME:EET
DTSTART:20161030T010000
END:STANDARD
END:VTIMEZONE
BEGIN:VEVENT
DTSTART;TZID=Europe/Helsinki:20160227T100000
DTEND;TZID=Europe/Helsinki:20160228T173000
DTSTAMP:20260423T225653
CREATED:20160114T215129Z
LAST-MODIFIED:20160223T132507Z
UID:4022-1456567200-1456680600@hood-espoo.fi
SUMMARY:Teemaviikonloppu Tuulimäessä
DESCRIPTION:Teemaviikonloppu Tuulimäessä 27.-28.2. Ohjelmassa on fysiikkatreeniä\, tekniikkaklinikkaa\, viritystä\, välineitä ja luentoja. Ohjelma on tarkoitettu kaiken tasoisille ampujille aina aloittelijoista kilpa-ampujiin.
URL:https://hood-espoo.fi/event/talvileiri/
LOCATION:Kisakallio\, Kisakalliontie 284\, Lohja\, 08360\, Suomi
CATEGORIES:Hood
ORGANIZER;CN="Robin%20Hood%20ry":MAILTO:info@hood-espoo.fi
END:VEVENT
END:VCALENDAR