BEGIN:VCALENDAR
VERSION:2.0
PRODID:-//Jousiammuntaseura Robin Hood - ECPv5.14.1//NONSGML v1.0//EN
CALSCALE:GREGORIAN
METHOD:PUBLISH
X-WR-CALNAME:Jousiammuntaseura Robin Hood
X-ORIGINAL-URL:https://hood-espoo.fi
X-WR-CALDESC:Tapahtumat Jousiammuntaseura Robin Hood
BEGIN:VTIMEZONE
TZID:Europe/Helsinki
BEGIN:DAYLIGHT
TZOFFSETFROM:+0200
TZOFFSETTO:+0300
TZNAME:EEST
DTSTART:20140330T010000
END:DAYLIGHT
BEGIN:STANDARD
TZOFFSETFROM:+0300
TZOFFSETTO:+0200
TZNAME:EET
DTSTART:20141026T010000
END:STANDARD
END:VTIMEZONE
BEGIN:VEVENT
DTSTART;TZID=Europe/Helsinki:20140427T080000
DTEND;TZID=Europe/Helsinki:20140427T170000
DTSTAMP:20260422T070754
CREATED:20131205T100748Z
LAST-MODIFIED:20131205T100748Z
UID:2509-1398585600-1398618000@hood-espoo.fi
SUMMARY:Tapanin kierros
DESCRIPTION:Tapanin kierros ammutaan Oittaan maastoammuntaradalla.
URL:https://hood-espoo.fi/event/tapanin-kierros-2/
LOCATION:Oittaan maastoammuntarata\, Kellonummentie 5\, Espoo\, 02740\, Suomi
CATEGORIES:Kilpailut
ORGANIZER;CN="Robin%20Hood%20ry":MAILTO:info@hood-espoo.fi
END:VEVENT
END:VCALENDAR