BEGIN:VCALENDAR
VERSION:2.0
PRODID:-//Jousiammuntaseura Robin Hood - ECPv5.14.1//NONSGML v1.0//EN
CALSCALE:GREGORIAN
METHOD:PUBLISH
X-WR-CALNAME:Jousiammuntaseura Robin Hood
X-ORIGINAL-URL:https://hood-espoo.fi/?lang=en
X-WR-CALDESC:Events for Jousiammuntaseura Robin Hood
BEGIN:VTIMEZONE
TZID:Europe/Helsinki
BEGIN:DAYLIGHT
TZOFFSETFROM:+0200
TZOFFSETTO:+0300
TZNAME:EEST
DTSTART:20180325T010000
END:DAYLIGHT
BEGIN:STANDARD
TZOFFSETFROM:+0300
TZOFFSETTO:+0200
TZNAME:EET
DTSTART:20181028T010000
END:STANDARD
END:VTIMEZONE
BEGIN:VEVENT
DTSTART;TZID=Europe/Helsinki:20181102T170000
DTEND;TZID=Europe/Helsinki:20181102T200000
DTSTAMP:20260423T145640
CREATED:20181031T205604Z
LAST-MODIFIED:20181031T205604Z
UID:6200-1541178000-1541188800@hood-espoo.fi
SUMMARY:Target maintenance at Tuulimäki
DESCRIPTION:Next Friday we have a work effort to replace old targets at Tuulimäki at 17:00
URL:https://hood-espoo.fi/event/target-maintenance-at-tuulimaki/?lang=en
CATEGORIES:work party
END:VEVENT
END:VCALENDAR