BEGIN:VCALENDAR
VERSION:2.0
PRODID:-//Jousiammuntaseura Robin Hood - ECPv5.14.1//NONSGML v1.0//EN
CALSCALE:GREGORIAN
METHOD:PUBLISH
X-WR-CALNAME:Jousiammuntaseura Robin Hood
X-ORIGINAL-URL:https://hood-espoo.fi/?lang=en
X-WR-CALDESC:Events for Jousiammuntaseura Robin Hood
BEGIN:VTIMEZONE
TZID:Europe/Helsinki
BEGIN:DAYLIGHT
TZOFFSETFROM:+0200
TZOFFSETTO:+0300
TZNAME:EEST
DTSTART:20170326T010000
END:DAYLIGHT
BEGIN:STANDARD
TZOFFSETFROM:+0300
TZOFFSETTO:+0200
TZNAME:EET
DTSTART:20171029T010000
END:STANDARD
END:VTIMEZONE
BEGIN:VEVENT
DTSTART;TZID=Europe/Helsinki:20171103T170000
DTEND;TZID=Europe/Helsinki:20171103T200000
DTSTAMP:20260423T102339
CREATED:20171101T162506Z
LAST-MODIFIED:20171101T162506Z
UID:5590-1509728400-1509739200@hood-espoo.fi
SUMMARY:Target renovation
DESCRIPTION:The targets will be fixed for the Tuulimäki Autumn competition on friday 17:00.
URL:https://hood-espoo.fi/event/target-renovation/?lang=en
CATEGORIES:exceptions,work party
END:VEVENT
END:VCALENDAR