BEGIN:VCALENDAR
VERSION:2.0
PRODID:-//Jousiammuntaseura Robin Hood - ECPv5.14.1//NONSGML v1.0//EN
CALSCALE:GREGORIAN
METHOD:PUBLISH
X-WR-CALNAME:Jousiammuntaseura Robin Hood
X-ORIGINAL-URL:https://hood-espoo.fi
X-WR-CALDESC:Tapahtumat Jousiammuntaseura Robin Hood
BEGIN:VTIMEZONE
TZID:Europe/Helsinki
BEGIN:DAYLIGHT
TZOFFSETFROM:+0200
TZOFFSETTO:+0300
TZNAME:EEST
DTSTART:20230326T010000
END:DAYLIGHT
BEGIN:STANDARD
TZOFFSETFROM:+0300
TZOFFSETTO:+0200
TZNAME:EET
DTSTART:20231029T010000
END:STANDARD
END:VTIMEZONE
BEGIN:VEVENT
DTSTART;TZID=Europe/Helsinki:20230109T180000
DTEND;TZID=Europe/Helsinki:20230109T200000
DTSTAMP:20260423T194703
CREATED:20230108T183252Z
LAST-MODIFIED:20230108T183252Z
UID:7927-1673287200-1673294400@hood-espoo.fi
SUMMARY:Taulutalkoot\, oikea pääty
DESCRIPTION:
URL:https://hood-espoo.fi/event/taulutalkoot-oikea-paaty/
CATEGORIES:Etusivu,Hood,Vuoropoikkeus
END:VEVENT
END:VCALENDAR