BEGIN:VCALENDAR
VERSION:2.0
PRODID:-//Jousiammuntaseura Robin Hood - ECPv5.14.1//NONSGML v1.0//EN
CALSCALE:GREGORIAN
METHOD:PUBLISH
X-WR-CALNAME:Jousiammuntaseura Robin Hood
X-ORIGINAL-URL:https://hood-espoo.fi
X-WR-CALDESC:Tapahtumat Jousiammuntaseura Robin Hood
BEGIN:VTIMEZONE
TZID:Europe/Helsinki
BEGIN:DAYLIGHT
TZOFFSETFROM:+0200
TZOFFSETTO:+0300
TZNAME:EEST
DTSTART:20180325T010000
END:DAYLIGHT
BEGIN:STANDARD
TZOFFSETFROM:+0300
TZOFFSETTO:+0200
TZNAME:EET
DTSTART:20181028T010000
END:STANDARD
END:VTIMEZONE
BEGIN:VEVENT
DTSTART;TZID=Europe/Helsinki:20181102T170000
DTEND;TZID=Europe/Helsinki:20181102T200000
DTSTAMP:20260423T133016
CREATED:20181031T205447Z
LAST-MODIFIED:20181031T205447Z
UID:6198-1541178000-1541188800@hood-espoo.fi
SUMMARY:Taustatalkoot
DESCRIPTION:Perjantaina kello 17:00 järjestetään taustatalkoot Tuulimäessä.
URL:https://hood-espoo.fi/event/taustatalkoot-6/
CATEGORIES:Etusivu,Talkoot
END:VEVENT
END:VCALENDAR