BEGIN:VCALENDAR
VERSION:2.0
PRODID:-//Jousiammuntaseura Robin Hood - ECPv5.14.1//NONSGML v1.0//EN
CALSCALE:GREGORIAN
METHOD:PUBLISH
X-WR-CALNAME:Jousiammuntaseura Robin Hood
X-ORIGINAL-URL:https://hood-espoo.fi
X-WR-CALDESC:Tapahtumat Jousiammuntaseura Robin Hood
BEGIN:VTIMEZONE
TZID:Europe/Helsinki
BEGIN:DAYLIGHT
TZOFFSETFROM:+0200
TZOFFSETTO:+0300
TZNAME:EEST
DTSTART:20190331T010000
END:DAYLIGHT
BEGIN:STANDARD
TZOFFSETFROM:+0300
TZOFFSETTO:+0200
TZNAME:EET
DTSTART:20191027T010000
END:STANDARD
END:VTIMEZONE
BEGIN:VEVENT
DTSTART;TZID=Europe/Helsinki:20191129T170000
DTEND;TZID=Europe/Helsinki:20191129T200000
DTSTAMP:20260423T144321
CREATED:20191022T084720Z
LAST-MODIFIED:20191119T161052Z
UID:6767-1575046800-1575057600@hood-espoo.fi
SUMMARY:Kisatalkoot Tuulimäessä
DESCRIPTION:Taustat ehdittäneen fiksailla edellisenä viikonloppuna\, mutta tässä kohtaa laitellaan halli kisakuntoon ja varmistetaan taulut paikoilleen sun muuta.
URL:https://hood-espoo.fi/event/taustatalkoot-tuulimaessa-4/
LOCATION:Tuulimäki\, Tapiola\, Itätuulenkuja 9\, Espoo\, 02100\, Suomi
CATEGORIES:Talkoot
ORGANIZER;CN="Robin%20Hood%20ry":MAILTO:info@hood-espoo.fi
END:VEVENT
END:VCALENDAR