BEGIN:VCALENDAR
VERSION:2.0
PRODID:-//Jousiammuntaseura Robin Hood - ECPv5.14.1//NONSGML v1.0//EN
CALSCALE:GREGORIAN
METHOD:PUBLISH
X-WR-CALNAME:Jousiammuntaseura Robin Hood
X-ORIGINAL-URL:https://hood-espoo.fi
X-WR-CALDESC:Tapahtumat Jousiammuntaseura Robin Hood
BEGIN:VTIMEZONE
TZID:Europe/Helsinki
BEGIN:DAYLIGHT
TZOFFSETFROM:+0200
TZOFFSETTO:+0300
TZNAME:EEST
DTSTART:20190331T010000
END:DAYLIGHT
BEGIN:STANDARD
TZOFFSETFROM:+0300
TZOFFSETTO:+0200
TZNAME:EET
DTSTART:20191027T010000
END:STANDARD
END:VTIMEZONE
BEGIN:VEVENT
DTSTART;VALUE=DATE:20191130
DTEND;VALUE=DATE:20191201
DTSTAMP:20260423T151023
CREATED:20191007T065648Z
LAST-MODIFIED:20191007T065648Z
UID:6732-1575072000-1575158399@hood-espoo.fi
SUMMARY:Tuulimäen Syyskisa 2019
DESCRIPTION:Tuulimäen syyskisa 30.11.2019 \nLisätietoja ja ilmoittautuminen: https://hood-espoo.fi/kilpailut/tmks2019/
URL:https://hood-espoo.fi/event/tuulimaen-syyskisa-2019/
LOCATION:Tuulimäki\, Tapiola\, Itätuulenkuja 9\, Espoo\, 02100\, Suomi
CATEGORIES:Etusivu,Hood,Kilpailut,Vuoropoikkeus
END:VEVENT
END:VCALENDAR