BEGIN:VCALENDAR
VERSION:2.0
PRODID:-//Jousiammuntaseura Robin Hood - ECPv5.14.1//NONSGML v1.0//EN
CALSCALE:GREGORIAN
METHOD:PUBLISH
X-WR-CALNAME:Jousiammuntaseura Robin Hood
X-ORIGINAL-URL:https://hood-espoo.fi
X-WR-CALDESC:Tapahtumat Jousiammuntaseura Robin Hood
BEGIN:VTIMEZONE
TZID:Europe/Helsinki
BEGIN:DAYLIGHT
TZOFFSETFROM:+0200
TZOFFSETTO:+0300
TZNAME:EEST
DTSTART:20230326T010000
END:DAYLIGHT
BEGIN:STANDARD
TZOFFSETFROM:+0300
TZOFFSETTO:+0200
TZNAME:EET
DTSTART:20231029T010000
END:STANDARD
END:VTIMEZONE
BEGIN:VEVENT
DTSTART;TZID=Europe/Helsinki:20230218T120000
DTEND;TZID=Europe/Helsinki:20230218T180000
DTSTAMP:20260423T181058
CREATED:20230123T102218Z
LAST-MODIFIED:20230123T102218Z
UID:7977-1676721600-1676743200@hood-espoo.fi
SUMMARY:Tuulimäki 25 m -kilpailu (puoli hallia)
DESCRIPTION:
URL:https://hood-espoo.fi/event/tuulimaki-25-m-kilpailu-puoli-hallia/
CATEGORIES:Etusivu,Kilpailut,Vuoropoikkeus
END:VEVENT
END:VCALENDAR