BEGIN:VCALENDAR
VERSION:2.0
PRODID:-//Jousiammuntaseura Robin Hood - ECPv5.14.1//NONSGML v1.0//EN
CALSCALE:GREGORIAN
METHOD:PUBLISH
X-WR-CALNAME:Jousiammuntaseura Robin Hood
X-ORIGINAL-URL:https://hood-espoo.fi/?lang=en
X-WR-CALDESC:Events for Jousiammuntaseura Robin Hood
BEGIN:VTIMEZONE
TZID:Europe/Helsinki
BEGIN:DAYLIGHT
TZOFFSETFROM:+0200
TZOFFSETTO:+0300
TZNAME:EEST
DTSTART:20180325T010000
END:DAYLIGHT
BEGIN:STANDARD
TZOFFSETFROM:+0300
TZOFFSETTO:+0200
TZNAME:EET
DTSTART:20181028T010000
END:STANDARD
END:VTIMEZONE
BEGIN:VEVENT
DTSTART;VALUE=DATE:20180127
DTEND;VALUE=DATE:20180128
DTSTAMP:20260423T162627
CREATED:20180122T193349Z
LAST-MODIFIED:20180122T193349Z
UID:5845-1517011200-1517097599@hood-espoo.fi
SUMMARY:Tuulimäki Competition
DESCRIPTION:https://hood-espoo.fi/kilpailut/tmk2018/
URL:https://hood-espoo.fi/event/tuulimaki-competition-2/?lang=en
CATEGORIES:competition
END:VEVENT
END:VCALENDAR