BEGIN:VCALENDAR
VERSION:2.0
PRODID:-//Jousiammuntaseura Robin Hood - ECPv5.14.1//NONSGML v1.0//EN
CALSCALE:GREGORIAN
METHOD:PUBLISH
X-WR-CALNAME:Jousiammuntaseura Robin Hood
X-ORIGINAL-URL:https://hood-espoo.fi
X-WR-CALDESC:Tapahtumat Jousiammuntaseura Robin Hood
BEGIN:VTIMEZONE
TZID:Europe/Helsinki
BEGIN:DAYLIGHT
TZOFFSETFROM:+0200
TZOFFSETTO:+0300
TZNAME:EEST
DTSTART:20160327T010000
END:DAYLIGHT
BEGIN:STANDARD
TZOFFSETFROM:+0300
TZOFFSETTO:+0200
TZNAME:EET
DTSTART:20161030T010000
END:STANDARD
END:VTIMEZONE
BEGIN:VEVENT
DTSTART;TZID=Europe/Helsinki:20160130T090000
DTEND;TZID=Europe/Helsinki:20160130T180000
DTSTAMP:20260424T020726
CREATED:20150907T090709Z
LAST-MODIFIED:20151222T113904Z
UID:3375-1454144400-1454176800@hood-espoo.fi
SUMMARY:Tuulimäkikilpailu
DESCRIPTION:SJAL 18m kilpailu. Lisätietoja ja ilmoittautuminen täällä.
URL:https://hood-espoo.fi/event/tuulimakikilpailu-4/
LOCATION:Tuulimäki\, Tapiola\, Itätuulenkuja 9\, Espoo\, 02100\, Suomi
CATEGORIES:Hood,Kilpailut,Vuoropoikkeus
ORGANIZER;CN="Robin%20Hood%20ry":MAILTO:info@hood-espoo.fi
END:VEVENT
END:VCALENDAR