BEGIN:VCALENDAR
VERSION:2.0
PRODID:-//Jousiammuntaseura Robin Hood - ECPv5.14.1//NONSGML v1.0//EN
CALSCALE:GREGORIAN
METHOD:PUBLISH
X-WR-CALNAME:Jousiammuntaseura Robin Hood
X-ORIGINAL-URL:https://hood-espoo.fi
X-WR-CALDESC:Tapahtumat Jousiammuntaseura Robin Hood
BEGIN:VTIMEZONE
TZID:Europe/Helsinki
BEGIN:DAYLIGHT
TZOFFSETFROM:+0200
TZOFFSETTO:+0300
TZNAME:EEST
DTSTART:20120325T010000
END:DAYLIGHT
BEGIN:STANDARD
TZOFFSETFROM:+0300
TZOFFSETTO:+0200
TZNAME:EET
DTSTART:20121028T010000
END:STANDARD
END:VTIMEZONE
BEGIN:VEVENT
DTSTART;TZID=Europe/Helsinki:20120122T090000
DTEND;TZID=Europe/Helsinki:20120122T170059
DTSTAMP:20260423T191451
CREATED:20111218T212948Z
LAST-MODIFIED:20120120T205725Z
UID:1139-1327222800-1327251659@hood-espoo.fi
SUMMARY:Tuulimäkikilpailu
DESCRIPTION:Hood järjestää taas perinteisen Tuulimäkikilpailun 22.1.2012. \nPaikka: Tuulimäen liikuntatilojen ammuntahalli\, Itätuulenkuja 8\, Espoo \nAika: 22.1.2012 klo 9-17 \nKilpailukutsu ja ilmoittautuneet
URL:https://hood-espoo.fi/event/tuulimakikilpailu/
CATEGORIES:Kilpailut,Vuoropoikkeus
END:VEVENT
END:VCALENDAR