BEGIN:VCALENDAR
VERSION:2.0
PRODID:-//Jousiammuntaseura Robin Hood - ECPv5.14.1//NONSGML v1.0//EN
CALSCALE:GREGORIAN
METHOD:PUBLISH
X-WR-CALNAME:Jousiammuntaseura Robin Hood
X-ORIGINAL-URL:https://hood-espoo.fi
X-WR-CALDESC:Tapahtumat Jousiammuntaseura Robin Hood
BEGIN:VTIMEZONE
TZID:Europe/Helsinki
BEGIN:DAYLIGHT
TZOFFSETFROM:+0200
TZOFFSETTO:+0300
TZNAME:EEST
DTSTART:20120325T010000
END:DAYLIGHT
BEGIN:STANDARD
TZOFFSETFROM:+0300
TZOFFSETTO:+0200
TZNAME:EET
DTSTART:20121028T010000
END:STANDARD
END:VTIMEZONE
BEGIN:VEVENT
DTSTART;TZID=Europe/Helsinki:20120117T190000
DTEND;TZID=Europe/Helsinki:20120117T210059
DTSTAMP:20260424T000500
CREATED:20120104T215128Z
LAST-MODIFIED:20120104T215128Z
UID:1177-1326826800-1326834059@hood-espoo.fi
SUMMARY:Vastakaarijousen aselajikurssi
DESCRIPTION:2. kerta
URL:https://hood-espoo.fi/event/vastakaarijousen-aselajikurssi-2/
END:VEVENT
END:VCALENDAR