BEGIN:VCALENDAR
VERSION:2.0
PRODID:-//Jousiammuntaseura Robin Hood - ECPv5.14.1//NONSGML v1.0//EN
CALSCALE:GREGORIAN
METHOD:PUBLISH
X-WR-CALNAME:Jousiammuntaseura Robin Hood
X-ORIGINAL-URL:https://hood-espoo.fi
X-WR-CALDESC:Tapahtumat Jousiammuntaseura Robin Hood
BEGIN:VTIMEZONE
TZID:Europe/Helsinki
BEGIN:DAYLIGHT
TZOFFSETFROM:+0200
TZOFFSETTO:+0300
TZNAME:EEST
DTSTART:20120325T010000
END:DAYLIGHT
BEGIN:STANDARD
TZOFFSETFROM:+0300
TZOFFSETTO:+0200
TZNAME:EET
DTSTART:20121028T010000
END:STANDARD
END:VTIMEZONE
BEGIN:VEVENT
DTSTART;TZID=Europe/Helsinki:20120114T150000
DTEND;TZID=Europe/Helsinki:20120114T170059
DTSTAMP:20260424T015456
CREATED:20120104T215051Z
LAST-MODIFIED:20120104T215051Z
UID:1176-1326553200-1326560459@hood-espoo.fi
SUMMARY:Vastakaarijousen aselajikurssi
DESCRIPTION:1. kerta. Ilmoittautumiset Jaakolle
URL:https://hood-espoo.fi/event/vastakaarijousen-aselajikurssi/
END:VEVENT
END:VCALENDAR