BEGIN:VCALENDAR
VERSION:2.0
PRODID:-//Jousiammuntaseura Robin Hood - ECPv5.14.1//NONSGML v1.0//EN
CALSCALE:GREGORIAN
METHOD:PUBLISH
X-WR-CALNAME:Jousiammuntaseura Robin Hood
X-ORIGINAL-URL:https://hood-espoo.fi
X-WR-CALDESC:Tapahtumat Jousiammuntaseura Robin Hood
BEGIN:VTIMEZONE
TZID:Europe/Helsinki
BEGIN:DAYLIGHT
TZOFFSETFROM:+0200
TZOFFSETTO:+0300
TZNAME:EEST
DTSTART:20130331T010000
END:DAYLIGHT
BEGIN:STANDARD
TZOFFSETFROM:+0300
TZOFFSETTO:+0200
TZNAME:EET
DTSTART:20131027T010000
END:STANDARD
END:VTIMEZONE
BEGIN:VEVENT
DTSTART;TZID=Europe/Helsinki:20130918T180000
DTEND;TZID=Europe/Helsinki:20130918T200000
DTSTAMP:20260421T192705
CREATED:20130904T174225Z
LAST-MODIFIED:20130904T174225Z
UID:2362-1379527200-1379534400@hood-espoo.fi
SUMMARY:Vuoropoikkeus - Ryhmä
DESCRIPTION:Alkeispuoli ja välineet varattu (Jaakko).
URL:https://hood-espoo.fi/event/vuoropoikkeus-ryhma/
CATEGORIES:Vuoropoikkeus
END:VEVENT
END:VCALENDAR