BEGIN:VCALENDAR
VERSION:2.0
PRODID:-//Jousiammuntaseura Robin Hood - ECPv5.14.1//NONSGML v1.0//EN
CALSCALE:GREGORIAN
METHOD:PUBLISH
X-WR-CALNAME:Jousiammuntaseura Robin Hood
X-ORIGINAL-URL:https://hood-espoo.fi
X-WR-CALDESC:Tapahtumat Jousiammuntaseura Robin Hood
BEGIN:VTIMEZONE
TZID:Europe/Helsinki
BEGIN:DAYLIGHT
TZOFFSETFROM:+0200
TZOFFSETTO:+0300
TZNAME:EEST
DTSTART:20140330T010000
END:DAYLIGHT
BEGIN:STANDARD
TZOFFSETFROM:+0300
TZOFFSETTO:+0200
TZNAME:EET
DTSTART:20141026T010000
END:STANDARD
END:VTIMEZONE
BEGIN:VEVENT
DTSTART;TZID=Europe/Helsinki:20140430T170000
DTEND;TZID=Europe/Helsinki:20140430T200000
DTSTAMP:20260422T084140
CREATED:20140422T134502Z
LAST-MODIFIED:20140422T134502Z
UID:2772-1398877200-1398888000@hood-espoo.fi
SUMMARY:Vuoropoikkeus: Vappu - ei vuoroa
DESCRIPTION:
URL:https://hood-espoo.fi/event/vuoropoikkeus-vappu-ei-vuoroa/
LOCATION:Tuulimäki\, Tapiola\, Itätuulenkuja 9\, Espoo\, 02100\, Suomi
CATEGORIES:Vuoropoikkeus
END:VEVENT
END:VCALENDAR