BEGIN:VCALENDAR
VERSION:2.0
PRODID:-//Jousiammuntaseura Robin Hood - ECPv5.14.1//NONSGML v1.0//EN
CALSCALE:GREGORIAN
METHOD:PUBLISH
X-WR-CALNAME:Jousiammuntaseura Robin Hood
X-ORIGINAL-URL:https://hood-espoo.fi
X-WR-CALDESC:Tapahtumat Jousiammuntaseura Robin Hood
BEGIN:VTIMEZONE
TZID:Europe/Helsinki
BEGIN:DAYLIGHT
TZOFFSETFROM:+0200
TZOFFSETTO:+0300
TZNAME:EEST
DTSTART:20150329T010000
END:DAYLIGHT
BEGIN:STANDARD
TZOFFSETFROM:+0300
TZOFFSETTO:+0200
TZNAME:EET
DTSTART:20151025T010000
END:STANDARD
END:VTIMEZONE
BEGIN:VEVENT
DTSTART;TZID=Europe/Helsinki:20150327T180000
DTEND;TZID=Europe/Helsinki:20150327T200000
DTSTAMP:20260421T165039
CREATED:20150327T091424Z
LAST-MODIFIED:20150327T091807Z
UID:3163-1427479200-1427486400@hood-espoo.fi
SUMMARY:Ylimääräinen alkeisvuoro (alkeispääty varattu)
DESCRIPTION:Alkeispääty ja seuravälineet varattuina ensisijaisesti alkeisvuoroon.
URL:https://hood-espoo.fi/event/ylimaarainen-alkeisvuoro-alkeispaaty-varattu/
LOCATION:Tuulimäki\, Tapiola\, Itätuulenkuja 9\, Espoo\, 02100\, Suomi
CATEGORIES:Vuoropoikkeus
END:VEVENT
END:VCALENDAR