BEGIN:VCALENDAR
VERSION:2.0
PRODID:-//Jousiammuntaseura Robin Hood - ECPv5.14.1//NONSGML v1.0//EN
CALSCALE:GREGORIAN
METHOD:PUBLISH
X-WR-CALNAME:Jousiammuntaseura Robin Hood
X-ORIGINAL-URL:https://hood-espoo.fi
X-WR-CALDESC:Tapahtumat Jousiammuntaseura Robin Hood
BEGIN:VTIMEZONE
TZID:Europe/Helsinki
BEGIN:DAYLIGHT
TZOFFSETFROM:+0200
TZOFFSETTO:+0300
TZNAME:EEST
DTSTART:20190331T010000
END:DAYLIGHT
BEGIN:STANDARD
TZOFFSETFROM:+0300
TZOFFSETTO:+0200
TZNAME:EET
DTSTART:20191027T010000
END:STANDARD
END:VTIMEZONE
BEGIN:VEVENT
DTSTART;TZID=Europe/Helsinki:20190418T080000
DTEND;TZID=Europe/Helsinki:20190418T093000
DTSTAMP:20260423T122435
CREATED:20190403T044210Z
LAST-MODIFIED:20190403T044210Z
UID:6463-1555574400-1555579800@hood-espoo.fi
SUMMARY:Ylimääräinen pitkän matkan vuoro
DESCRIPTION:
URL:https://hood-espoo.fi/event/ylimaarainen-pitkan-matkan-vuoro-4/
LOCATION:Tuulimäki\, Tapiola\, Itätuulenkuja 9\, Espoo\, 02100\, Suomi
END:VEVENT
END:VCALENDAR