BEGIN:VCALENDAR
VERSION:2.0
PRODID:-//Jousiammuntaseura Robin Hood - ECPv5.14.1//NONSGML v1.0//EN
CALSCALE:GREGORIAN
METHOD:PUBLISH
X-WR-CALNAME:Jousiammuntaseura Robin Hood
X-ORIGINAL-URL:https://hood-espoo.fi
X-WR-CALDESC:Tapahtumat Jousiammuntaseura Robin Hood
BEGIN:VTIMEZONE
TZID:Europe/Helsinki
BEGIN:DAYLIGHT
TZOFFSETFROM:+0200
TZOFFSETTO:+0300
TZNAME:EEST
DTSTART:20130331T010000
END:DAYLIGHT
BEGIN:STANDARD
TZOFFSETFROM:+0300
TZOFFSETTO:+0200
TZNAME:EET
DTSTART:20131027T010000
END:STANDARD
END:VTIMEZONE
BEGIN:VEVENT
DTSTART;TZID=Europe/Helsinki:20130502T170000
DTEND;TZID=Europe/Helsinki:20130502T220000
DTSTAMP:20260422T045315
CREATED:20130416T055329Z
LAST-MODIFIED:20130502T093705Z
UID:2147-1367514000-1367532000@hood-espoo.fi
SUMMARY:Ylimääräinen vuoro 2.5.
DESCRIPTION:Ylimääräinen vuoro 2.5. klo. 17:00-22:00. \nKlo 18-20 ovat seurajouset varattu ensisijaisesti ensikertalaisia varten.
URL:https://hood-espoo.fi/event/ylimaarainen-vuoro-2-5/
CATEGORIES:Vuoropoikkeus
END:VEVENT
END:VCALENDAR